Package: BumpyMatrix Version: 1.15.0 Command: /home/biocbuild/bbs-3.21-bioc/R/bin/R CMD check --install=check:BumpyMatrix.install-out.txt --library=/home/biocbuild/bbs-3.21-bioc/R/site-library --timings BumpyMatrix_1.15.0.tar.gz StartedAt: 2025-01-31 20:37:09 -0500 (Fri, 31 Jan 2025) EndedAt: 2025-01-31 20:38:47 -0500 (Fri, 31 Jan 2025) EllapsedTime: 98.1 seconds RetCode: 0 Status: OK CheckDir: BumpyMatrix.Rcheck Warnings: 0