Package: BulkSignalR Version: 0.99.22 Command: /Library/Frameworks/R.framework/Resources/bin/R CMD INSTALL BulkSignalR StartedAt: 2025-02-03 15:48:28 -0500 (Mon, 03 Feb 2025) EndedAt: 2025-02-03 15:49:33 -0500 (Mon, 03 Feb 2025) EllapsedTime: 65.1 seconds RetCode: 0 Status: OK