Package: BubbleTree Version: 2.37.0 Command: /Library/Frameworks/R.framework/Resources/bin/R CMD INSTALL BubbleTree StartedAt: 2025-01-31 15:15:51 -0500 (Fri, 31 Jan 2025) EndedAt: 2025-01-31 15:16:11 -0500 (Fri, 31 Jan 2025) EllapsedTime: 20.0 seconds RetCode: 0 Status: OK