Package: BiocSklearn Version: 1.29.0 Command: chmod a+r BiocSklearn -R && E:\biocbuild\bbs-3.21-bioc\R\bin\R.exe CMD build --keep-empty-dirs --no-resave-data BiocSklearn StartedAt: 2025-01-31 17:22:44 -0500 (Fri, 31 Jan 2025) EndedAt: 2025-01-31 17:25:11 -0500 (Fri, 31 Jan 2025) EllapsedTime: 147.4 seconds RetCode: 0 Status: OK PackageFile: BiocSklearn_1.29.0.tar.gz PackageFileSize: 32.52 MiB