Package: BiocSingular Version: 1.23.0 Command: /home/biocbuild/bbs-3.21-bioc/R/bin/R CMD build --keep-empty-dirs --no-resave-data BiocSingular StartedAt: 2025-01-31 16:25:28 -0500 (Fri, 31 Jan 2025) EndedAt: 2025-01-31 16:26:06 -0500 (Fri, 31 Jan 2025) EllapsedTime: 38.0 seconds RetCode: 0 Status: OK PackageFile: BiocSingular_1.23.0.tar.gz PackageFileSize: 602.5 KiB