Package: BiocSingular Version: 1.23.0 Command: /home/biocbuild/R/R/bin/R CMD build --keep-empty-dirs --no-resave-data BiocSingular StartedAt: 2025-01-29 21:14:39 -0000 (Wed, 29 Jan 2025) EndedAt: 2025-01-29 21:15:36 -0000 (Wed, 29 Jan 2025) EllapsedTime: 57.0 seconds RetCode: 0 Status: OK PackageFile: BiocSingular_1.23.0.tar.gz PackageFileSize: 733.4 KiB