Package: BiocCheck Version: 1.43.2 Command: E:\biocbuild\bbs-3.21-bioc\R\bin\R.exe CMD INSTALL BiocCheck StartedAt: 2025-01-31 15:34:12 -0500 (Fri, 31 Jan 2025) EndedAt: 2025-01-31 15:34:54 -0500 (Fri, 31 Jan 2025) EllapsedTime: 42.2 seconds RetCode: 0 Status: OK