Package: BiocCheck Version: 1.43.2 Command: chmod a+r BiocCheck -R && E:\biocbuild\bbs-3.21-bioc\R\bin\R.exe CMD build --keep-empty-dirs --no-resave-data BiocCheck StartedAt: 2025-01-31 17:21:20 -0500 (Fri, 31 Jan 2025) EndedAt: 2025-01-31 17:21:51 -0500 (Fri, 31 Jan 2025) EllapsedTime: 30.9 seconds RetCode: 0 Status: OK PackageFile: BiocCheck_1.43.2.tar.gz PackageFileSize: 307.7 KiB