Package: BiocCheck Version: 1.43.2 Command: /home/biocbuild/R/R/bin/R CMD INSTALL BiocCheck StartedAt: 2025-01-29 19:44:31 -0000 (Wed, 29 Jan 2025) EndedAt: 2025-01-29 19:44:50 -0000 (Wed, 29 Jan 2025) EllapsedTime: 18.5 seconds RetCode: 0 Status: OK