Package: BiocCheck Version: 1.43.2 Command: rm -rf BiocCheck.buildbin-libdir && mkdir BiocCheck.buildbin-libdir && /Users/biocbuild/BBS/utils/build-universal.sh BiocCheck_1.43.2.tar.gz /Library/Frameworks/R.framework/Resources/bin/R BiocCheck.buildbin-libdir StartedAt: 2025-01-31 22:09:12 -0500 (Fri, 31 Jan 2025) EndedAt: 2025-01-31 22:09:17 -0500 (Fri, 31 Jan 2025) EllapsedTime: 5.1 seconds RetCode: 0 Status: OK PackageFile: BiocCheck_1.43.2.tgz PackageFileSize: 639.7 KiB