Package: BiocBaseUtils Version: 1.9.0 Command: /home/biocbuild/bbs-3.21-bioc/R/bin/R CMD build --keep-empty-dirs --no-resave-data BiocBaseUtils StartedAt: 2025-01-31 16:24:10 -0500 (Fri, 31 Jan 2025) EndedAt: 2025-01-31 16:24:15 -0500 (Fri, 31 Jan 2025) EllapsedTime: 5.0 seconds RetCode: 0 Status: OK PackageFile: BiocBaseUtils_1.9.0.tar.gz PackageFileSize: 226.3 KiB