Package: BioNet Version: 1.67.0 Command: /home/biocbuild/bbs-3.21-bioc/R/bin/R CMD check --install=check:BioNet.install-out.txt --library=/home/biocbuild/bbs-3.21-bioc/R/site-library --timings BioNet_1.67.0.tar.gz StartedAt: 2025-01-31 20:28:59 -0500 (Fri, 31 Jan 2025) EndedAt: 2025-01-31 20:32:01 -0500 (Fri, 31 Jan 2025) EllapsedTime: 182.3 seconds RetCode: 0 Status: OK CheckDir: BioNet.Rcheck Warnings: 0