Package: BindingSiteFinder Version: 2.5.2 Command: /home/biocbuild/bbs-3.21-bioc/R/bin/R CMD build --keep-empty-dirs --no-resave-data BindingSiteFinder StartedAt: 2025-01-31 16:22:48 -0500 (Fri, 31 Jan 2025) EndedAt: 2025-01-31 16:25:32 -0500 (Fri, 31 Jan 2025) EllapsedTime: 163.1 seconds RetCode: 0 Status: OK PackageFile: BindingSiteFinder_2.5.2.tar.gz PackageFileSize: 2.668 MiB