Package: BicARE Version: 1.65.0 Command: /home/biocbuild/bbs-3.21-bioc/R/bin/R CMD INSTALL BicARE StartedAt: 2025-01-31 15:49:11 -0500 (Fri, 31 Jan 2025) EndedAt: 2025-01-31 15:49:31 -0500 (Fri, 31 Jan 2025) EllapsedTime: 19.2 seconds RetCode: 0 Status: OK