Package: BicARE Version: 1.65.0 Command: /Library/Frameworks/R.framework/Resources/bin/R CMD build --keep-empty-dirs --no-resave-data BicARE StartedAt: 2025-01-31 16:01:19 -0500 (Fri, 31 Jan 2025) EndedAt: 2025-01-31 16:03:35 -0500 (Fri, 31 Jan 2025) EllapsedTime: 135.7 seconds RetCode: 0 Status: OK PackageFile: BicARE_1.65.0.tar.gz PackageFileSize: 459.9 KiB