Package: BicARE Version: 1.65.0 Command: rm -rf BicARE.buildbin-libdir && mkdir BicARE.buildbin-libdir && /Users/biocbuild/BBS/utils/build-universal.sh BicARE_1.65.0.tar.gz /Library/Frameworks/R.framework/Resources/bin/R BicARE.buildbin-libdir StartedAt: 2025-01-31 22:09:02 -0500 (Fri, 31 Jan 2025) EndedAt: 2025-01-31 22:09:11 -0500 (Fri, 31 Jan 2025) EllapsedTime: 9.2 seconds RetCode: 0 Status: OK PackageFile: BicARE_1.65.0.tgz PackageFileSize: 506.8 KiB