Package: BiFET Version: 1.27.0 Command: rm -rf BiFET.buildbin-libdir && mkdir BiFET.buildbin-libdir && E:\biocbuild\bbs-3.21-bioc\R\bin\R.exe CMD INSTALL --build --library=BiFET.buildbin-libdir BiFET_1.27.0.tar.gz StartedAt: 2025-02-01 06:44:54 -0500 (Sat, 01 Feb 2025) EndedAt: 2025-02-01 06:45:07 -0500 (Sat, 01 Feb 2025) EllapsedTime: 13.6 seconds RetCode: 0 Status: OK PackageFile: BiFET_1.27.0.zip PackageFileSize: 663.4 KiB