Package: BeadDataPackR Version: 1.59.0 Command: /home/biocbuild/R/R/bin/R CMD build --keep-empty-dirs --no-resave-data BeadDataPackR StartedAt: 2025-01-29 21:05:12 -0000 (Wed, 29 Jan 2025) EndedAt: 2025-01-29 21:05:20 -0000 (Wed, 29 Jan 2025) EllapsedTime: 8.0 seconds RetCode: 0 Status: OK PackageFile: BeadDataPackR_1.59.0.tar.gz PackageFileSize: 223.8 KiB