Package: BayesKnockdown Version: 1.33.0 Command: /home/biocbuild/bbs-3.21-bioc/R/bin/R CMD INSTALL BayesKnockdown StartedAt: 2025-01-31 15:09:39 -0500 (Fri, 31 Jan 2025) EndedAt: 2025-01-31 15:09:47 -0500 (Fri, 31 Jan 2025) EllapsedTime: 9.0 seconds RetCode: 0 Status: OK