Package: BUSpaRse Version: 1.21.0 Command: chmod a+r BUSpaRse -R && E:\biocbuild\bbs-3.21-bioc\R\bin\R.exe CMD build --keep-empty-dirs --no-resave-data BUSpaRse StartedAt: 2025-01-31 17:30:23 -0500 (Fri, 31 Jan 2025) EndedAt: 2025-01-31 17:34:24 -0500 (Fri, 31 Jan 2025) EllapsedTime: 241.2 seconds RetCode: 0 Status: OK PackageFile: BUSpaRse_1.21.0.tar.gz PackageFileSize: 556.2 KiB