Package: BUSpaRse Version: 1.21.0 Command: /home/biocbuild/R/R/bin/R CMD INSTALL BUSpaRse StartedAt: 2025-01-29 20:02:13 -0000 (Wed, 29 Jan 2025) EndedAt: 2025-01-29 20:03:41 -0000 (Wed, 29 Jan 2025) EllapsedTime: 88.2 seconds RetCode: 0 Status: OK