Package: BUSpaRse Version: 1.21.0 Command: /home/biocbuild/R/R/bin/R CMD check --install=check:BUSpaRse.install-out.txt --library=/home/biocbuild/R/R/site-library --no-vignettes --timings BUSpaRse_1.21.0.tar.gz StartedAt: 2025-01-25 05:09:39 -0000 (Sat, 25 Jan 2025) EndedAt: 2025-01-25 05:20:05 -0000 (Sat, 25 Jan 2025) EllapsedTime: 626.4 seconds RetCode: 0 Status: WARNINGS CheckDir: BUSpaRse.Rcheck Warnings: 5