Package: BUSpaRse Version: 1.21.0 Command: /home/biocbuild/R/R/bin/R CMD build --keep-empty-dirs --no-resave-data BUSpaRse StartedAt: 2025-01-28 21:30:38 -0000 (Tue, 28 Jan 2025) EndedAt: 2025-01-28 21:58:10 -0000 (Tue, 28 Jan 2025) EllapsedTime: 1651.9 seconds RetCode: 0 Status: OK PackageFile: BUSpaRse_1.21.0.tar.gz PackageFileSize: 622.2 KiB