Package: BUSpaRse Version: 1.21.0 Command: /Library/Frameworks/R.framework/Resources/bin/R CMD INSTALL BUSpaRse StartedAt: 2025-01-31 15:13:30 -0500 (Fri, 31 Jan 2025) EndedAt: 2025-01-31 15:13:52 -0500 (Fri, 31 Jan 2025) EllapsedTime: 21.3 seconds RetCode: 0 Status: OK