Package: BUSpaRse Version: 1.21.0 Command: /Library/Frameworks/R.framework/Resources/bin/R CMD build --keep-empty-dirs --no-resave-data BUSpaRse StartedAt: 2025-01-31 15:45:53 -0500 (Fri, 31 Jan 2025) EndedAt: 2025-01-31 15:47:15 -0500 (Fri, 31 Jan 2025) EllapsedTime: 81.8 seconds RetCode: 0 Status: OK PackageFile: BUSpaRse_1.21.0.tar.gz PackageFileSize: 578.4 KiB