Package: BUS Version: 1.63.0 Command: /Library/Frameworks/R.framework/Resources/bin/R CMD INSTALL BUS StartedAt: 2025-01-31 15:26:12 -0500 (Fri, 31 Jan 2025) EndedAt: 2025-01-31 15:26:14 -0500 (Fri, 31 Jan 2025) EllapsedTime: 2.0 seconds RetCode: 0 Status: OK