Package: BSgenomeForge Version: 1.7.0 Command: /Library/Frameworks/R.framework/Resources/bin/R CMD INSTALL BSgenomeForge StartedAt: 2025-01-31 15:28:11 -0500 (Fri, 31 Jan 2025) EndedAt: 2025-01-31 15:28:54 -0500 (Fri, 31 Jan 2025) EllapsedTime: 42.4 seconds RetCode: 0 Status: OK