Package: BG2 Version: 1.7.0 Command: E:\biocbuild\bbs-3.21-bioc\R\bin\R.exe CMD INSTALL BG2 StartedAt: 2025-01-31 16:39:05 -0500 (Fri, 31 Jan 2025) EndedAt: 2025-01-31 16:39:13 -0500 (Fri, 31 Jan 2025) EllapsedTime: 7.5 seconds RetCode: 0 Status: OK