Package: BG2 Version: 1.7.0 Command: E:\biocbuild\bbs-3.21-bioc\R\bin\R.exe CMD check --no-multiarch --install=check:BG2.install-out.txt --library=E:\biocbuild\bbs-3.21-bioc\R\library --no-vignettes --timings BG2_1.7.0.tar.gz StartedAt: 2025-01-31 22:38:09 -0500 (Fri, 31 Jan 2025) EndedAt: 2025-01-31 22:49:14 -0500 (Fri, 31 Jan 2025) EllapsedTime: 665.6 seconds RetCode: 0 Status: OK CheckDir: BG2.Rcheck Warnings: 0