Package: BG2 Version: 1.7.0 Command: chmod a+r BG2 -R && E:\biocbuild\bbs-3.21-bioc\R\bin\R.exe CMD build --keep-empty-dirs --no-resave-data BG2 StartedAt: 2025-01-31 17:17:18 -0500 (Fri, 31 Jan 2025) EndedAt: 2025-01-31 17:26:24 -0500 (Fri, 31 Jan 2025) EllapsedTime: 545.6 seconds RetCode: 0 Status: OK PackageFile: BG2_1.7.0.tar.gz PackageFileSize: 1.131 MiB