Package: BG2 Version: 1.7.0 Command: /Library/Frameworks/R.framework/Resources/bin/R CMD check --install=check:BG2.install-out.txt --library=/Library/Frameworks/R.framework/Resources/library --no-vignettes --timings BG2_1.7.0.tar.gz StartedAt: 2025-01-31 19:00:34 -0500 (Fri, 31 Jan 2025) EndedAt: 2025-01-31 19:10:23 -0500 (Fri, 31 Jan 2025) EllapsedTime: 589.7 seconds RetCode: 0 Status: OK CheckDir: BG2.Rcheck Warnings: 0