Package: BEclear Version: 2.23.0 Command: E:\biocbuild\bbs-3.21-bioc\R\bin\R.exe CMD INSTALL BEclear StartedAt: 2025-01-31 15:43:20 -0500 (Fri, 31 Jan 2025) EndedAt: 2025-01-31 15:43:51 -0500 (Fri, 31 Jan 2025) EllapsedTime: 30.7 seconds RetCode: 0 Status: OK