Package: BEclear Version: 2.23.0 Command: E:\biocbuild\bbs-3.21-bioc\R\bin\R.exe CMD check --no-multiarch --install=check:BEclear.install-out.txt --library=E:\biocbuild\bbs-3.21-bioc\R\library --no-vignettes --timings BEclear_2.23.0.tar.gz StartedAt: 2025-01-31 22:35:53 -0500 (Fri, 31 Jan 2025) EndedAt: 2025-01-31 22:37:23 -0500 (Fri, 31 Jan 2025) EllapsedTime: 90.8 seconds RetCode: 0 Status: OK CheckDir: BEclear.Rcheck Warnings: 0