Package: BERT Version: 1.3.6 Command: rm -rf BERT.buildbin-libdir && mkdir BERT.buildbin-libdir && E:\biocbuild\bbs-3.21-bioc\R\bin\R.exe CMD INSTALL --build --library=BERT.buildbin-libdir BERT_1.3.6.tar.gz StartedAt: 2025-02-01 06:44:29 -0500 (Sat, 01 Feb 2025) EndedAt: 2025-02-01 06:44:35 -0500 (Sat, 01 Feb 2025) EllapsedTime: 6.5 seconds RetCode: 0 Status: OK PackageFile: BERT_1.3.6.zip PackageFileSize: 327.8 KiB