Package: BERT Version: 1.3.6 Command: /home/biocbuild/R/R/bin/R CMD build --keep-empty-dirs --no-resave-data BERT StartedAt: 2025-01-29 21:06:35 -0000 (Wed, 29 Jan 2025) EndedAt: 2025-01-29 21:07:10 -0000 (Wed, 29 Jan 2025) EllapsedTime: 35.0 seconds RetCode: 0 Status: OK PackageFile: BERT_1.3.6.tar.gz PackageFileSize: 284.3 KiB