Package: BERT Version: 1.3.6 Command: /Library/Frameworks/R.framework/Resources/bin/R CMD check --install=check:BERT.install-out.txt --library=/Library/Frameworks/R.framework/Resources/library --no-vignettes --timings BERT_1.3.6.tar.gz StartedAt: 2025-01-31 18:13:07 -0500 (Fri, 31 Jan 2025) EndedAt: 2025-01-31 18:13:37 -0500 (Fri, 31 Jan 2025) EllapsedTime: 30.4 seconds RetCode: 0 Status: OK CheckDir: BERT.Rcheck Warnings: 0