Package: BANDITS Version: 1.23.0 Command: E:\biocbuild\bbs-3.21-bioc\R\bin\R.exe CMD check --no-multiarch --install=check:BANDITS.install-out.txt --library=E:\biocbuild\bbs-3.21-bioc\R\library --no-vignettes --timings BANDITS_1.23.0.tar.gz StartedAt: 2025-01-31 22:29:24 -0500 (Fri, 31 Jan 2025) EndedAt: 2025-01-31 22:32:24 -0500 (Fri, 31 Jan 2025) EllapsedTime: 179.7 seconds RetCode: 0 Status: OK CheckDir: BANDITS.Rcheck Warnings: 0