Package: BANDITS Version: 1.23.0 Command: /home/biocbuild/bbs-3.21-bioc/R/bin/R CMD INSTALL BANDITS StartedAt: 2025-01-31 15:30:49 -0500 (Fri, 31 Jan 2025) EndedAt: 2025-01-31 15:31:47 -0500 (Fri, 31 Jan 2025) EllapsedTime: 57.7 seconds RetCode: 0 Status: OK