Package: BAGS Version: 2.47.0 Command: /home/biocbuild/R/R/bin/R CMD build --keep-empty-dirs --no-resave-data BAGS StartedAt: 2025-01-29 20:57:28 -0000 (Wed, 29 Jan 2025) EndedAt: 2025-01-29 20:58:00 -0000 (Wed, 29 Jan 2025) EllapsedTime: 32.0 seconds RetCode: 0 Status: OK PackageFile: BAGS_2.47.0.tar.gz PackageFileSize: 277.2 KiB