Package: AssessORF Version: 1.25.0 Command: /Library/Frameworks/R.framework/Resources/bin/R CMD check --install=check:AssessORF.install-out.txt --library=/Library/Frameworks/R.framework/Resources/library --no-vignettes --timings AssessORF_1.25.0.tar.gz StartedAt: 2025-01-31 18:06:16 -0500 (Fri, 31 Jan 2025) EndedAt: 2025-01-31 18:06:20 -0500 (Fri, 31 Jan 2025) EllapsedTime: 4.0 seconds RetCode: 1 Status: ERROR CheckDir: AssessORF.Rcheck Warnings: NA