Package: AnnotationHub Version: 3.15.0 Command: rm -rf AnnotationHub.buildbin-libdir && mkdir AnnotationHub.buildbin-libdir && E:\biocbuild\bbs-3.21-bioc\R\bin\R.exe CMD INSTALL --build --library=AnnotationHub.buildbin-libdir AnnotationHub_3.15.0.tar.gz StartedAt: 2025-02-01 06:40:05 -0500 (Sat, 01 Feb 2025) EndedAt: 2025-02-01 06:41:27 -0500 (Sat, 01 Feb 2025) EllapsedTime: 81.6 seconds RetCode: 0 Status: OK PackageFile: AnnotationHub_3.15.0.zip PackageFileSize: 1.24 MiB