Package: AneuFinder Version: 1.35.0 Command: /home/biocbuild/bbs-3.21-bioc/R/bin/R CMD INSTALL AneuFinder StartedAt: 2025-01-31 15:22:59 -0500 (Fri, 31 Jan 2025) EndedAt: 2025-01-31 15:23:01 -0500 (Fri, 31 Jan 2025) EllapsedTime: 2.0 seconds RetCode: 1 Status: ERROR