Package: AneuFinder Version: 1.35.0 Command: /home/biocbuild/R/R/bin/R CMD INSTALL AneuFinder StartedAt: 2025-01-29 19:48:30 -0000 (Wed, 29 Jan 2025) EndedAt: 2025-01-29 19:48:33 -0000 (Wed, 29 Jan 2025) EllapsedTime: 3.0 seconds RetCode: 1 Status: ERROR