Package: AneuFinder Version: 1.35.0 Command: /home/biocbuild/R/R/bin/R CMD build --keep-empty-dirs --no-resave-data AneuFinder StartedAt: 2025-01-29 20:49:03 -0000 (Wed, 29 Jan 2025) EndedAt: 2025-01-29 20:49:06 -0000 (Wed, 29 Jan 2025) EllapsedTime: 3.0 seconds RetCode: 1 Status: ERROR PackageFile: None PackageFileSize: NA