Package: AnVILPublish Version: 1.17.0 Command: /home/biocbuild/bbs-3.21-bioc/R/bin/R CMD check --install=check:AnVILPublish.install-out.txt --library=/home/biocbuild/bbs-3.21-bioc/R/site-library --timings AnVILPublish_1.17.0.tar.gz StartedAt: 2025-01-31 20:03:44 -0500 (Fri, 31 Jan 2025) EndedAt: 2025-01-31 20:04:17 -0500 (Fri, 31 Jan 2025) EllapsedTime: 33.1 seconds RetCode: 0 Status: OK CheckDir: AnVILPublish.Rcheck Warnings: 0