Package: AnVILPublish Version: 1.17.0 Command: /home/biocbuild/R/R/bin/R CMD INSTALL AnVILPublish StartedAt: 2025-01-29 20:26:33 -0000 (Wed, 29 Jan 2025) EndedAt: 2025-01-29 20:26:40 -0000 (Wed, 29 Jan 2025) EllapsedTime: 6.6 seconds RetCode: 0 Status: OK