Package: AnVILPublish Version: 1.17.0 Command: /home/biocbuild/R/R/bin/R CMD build --keep-empty-dirs --no-resave-data AnVILPublish StartedAt: 2025-01-29 20:50:57 -0000 (Wed, 29 Jan 2025) EndedAt: 2025-01-29 20:51:08 -0000 (Wed, 29 Jan 2025) EllapsedTime: 11.0 seconds RetCode: 0 Status: OK PackageFile: AnVILPublish_1.17.0.tar.gz PackageFileSize: 262.1 KiB