Package: AnVILBilling Version: 1.17.0 Command: E:\biocbuild\bbs-3.21-bioc\R\bin\R.exe CMD check --no-multiarch --install=check:AnVILBilling.install-out.txt --library=E:\biocbuild\bbs-3.21-bioc\R\library --no-vignettes --timings AnVILBilling_1.17.0.tar.gz StartedAt: 2025-02-02 22:33:32 -0500 (Sun, 02 Feb 2025) EndedAt: 2025-02-02 22:34:42 -0500 (Sun, 02 Feb 2025) EllapsedTime: 70.1 seconds RetCode: 0 Status: OK CheckDir: AnVILBilling.Rcheck Warnings: 0