Package: AnVILBilling Version: 1.17.0 Command: chmod a+r AnVILBilling -R && E:\biocbuild\bbs-3.21-bioc\R\bin\R.exe CMD build --keep-empty-dirs --no-resave-data AnVILBilling StartedAt: 2025-02-02 17:12:46 -0500 (Sun, 02 Feb 2025) EndedAt: 2025-02-02 17:13:19 -0500 (Sun, 02 Feb 2025) EllapsedTime: 33.5 seconds RetCode: 0 Status: OK PackageFile: AnVILBilling_1.17.0.tar.gz PackageFileSize: 1.006 MiB