Package: AnVILAz Version: 1.1.0 Command: /Library/Frameworks/R.framework/Resources/bin/R CMD build --keep-empty-dirs --no-resave-data AnVILAz StartedAt: 2025-01-31 15:55:10 -0500 (Fri, 31 Jan 2025) EndedAt: 2025-01-31 15:55:25 -0500 (Fri, 31 Jan 2025) EllapsedTime: 14.9 seconds RetCode: 0 Status: OK PackageFile: AnVILAz_1.1.0.tar.gz PackageFileSize: 826.1 KiB